Workbook

Sheet Cover sheet
A1: Visitor Experience Survey: Quarter 1 (Jan - Mar) 2026
A3: Description
A4: This spreadsheet provides quarterly spending estimates for overnight leisure visitors to Jersey. It also includes additional information on visitor behaviour and characteristics.
A6: Methodology
A7: The Jersey Visitor Experience Survey, part of the Jersey Exit Surveys, collects data from departing visitors to estimate quarterly spend and experience figures. It also offers net promoter scores (NPS), spend per visitor, and further breakdowns of visitor numbers. Visitor volume and bed nights data are gathered through the Visitor Volume Survey, the other component of the Jersey Exit Surveys, which is published monthly by Visit Jersey.
A9: Visitors are randomly selected at major departure points (air and sea) and surveyed using a structured questionnaire. Data collection occurs throughout each quarter, with responses weighted against Ports of Jersey passenger data and the Visitor Volume Survey to ensure an accurate representation of total visitors. Visit Jersey commissions Tourism South East, an independent research agency, to conduct the interviews and produce robust visitor estimates.
A11: As this is a survey, all figures should be interpreted as estimates with a degree of error. Figures have been rounded independently to the nearest 100, and entries with counts below 100 have been removed to maintain reliability and confidentiality.
A13: Coronavirus (COVID-19) pandemic impact
A14: No visitor data were collected for April 2020 to Jan 2022 due to the coronavirus (COVID-19) pandemic.
A16: Some pre-2024 data is currently unavailable. Additional data processing is required, and the remaining data will be incorporated at a later stage.
A18: Published by Visit Jersey
A19: https://business.jersey.com/research-trends/
A20: info@jersey.com

Sheet Contents
A1: Table of contents
A3: Table number | B3: Table title | C3: Notes
A4: 1 | B4: Total visitor spend | C4: Includes YoY spending change in both nominal and real terms
A5: 2 | B5: Total visitor spend by key characteristics | C5: Includes breakdowns by country of residence, purpose of visit, mode of departure and industry
A6: 3 | B6: Average overnight spend per visit by key characteristics (overnight visitors only) | C6: Includes breakdowns by country of residence, purpose of visit
A7: 4 | B7: Average visitor spend per night by key characteristics (overnight visitors only) | C7: Includes breakdowns by country of residence, purpose of visit
A8: 5 | B8: Visits by key characteristics | C8: Includes breakdowns by age, accommodation type, first time visitors, likelihood to revisit
A9: 6 | B9: Proportion of visitor who participate in an activity
A10: 7 | B10: Average ratings by attribute
A11: 8 | B11: Likelihood of recommending Jersey and Net Promotor Score (Leisure visits only)

Sheet Definitions
A1: Definitions
A3: Definition number | B3: Term | C3: Definition
A4: 1 | B4: Passenger | C4: Anyone departing Jersey by air or sea, including visitors and Jersey residents.
A5: 2 | B5: Passenger - Other passengers | C5: Includes mostly residents, but also seasonal workers, returning visitors and those in transit
A6: 3 | B6: Passenger - Visitor | C6: Someone who lives outside Jersey and visits Jersey for less than 12 months. UK citizens residing overseas for 12 months or more coming home on leave are included in this category.
A7: 4 | B7: Visit | C7: A trip to Jersey by a visitor for less than 12 months. One visitor can make multiple trips
A8: 5 | B8: Visit - Day visit | C8: A trip to Jersey where the visitor leaves the same day without staying overnight.
A9: 6 | B9: Visit - Overnight visit | C9: A trip to Jersey where the visitor stays for at least one night.
A10: 7 | B10: Country of residence | C10: The country where a person usually lives.
A11: 8 | B11: Country of residence - UK | C11: Visitors who reside in the UK, excluding other Channel Islands
A12: 9 | B12: Country of residence - Other Channel Islands | C12: This is mostly Guernsey residents but also includes residents from the other islands in the Bailiwick of Guernsey (Alderney, Sark and Herm)
A13: 10 | B13: Purpose of visit - Leisure | C13: The primary reason for travel is for holidays, short breaks, or recreational trips.
A14: 11 | B14: Purpose of visit - Business | C14: The primary reason for travel is work-related trips
A15: 12 | B15: Purpose of visit - Visiting friends and relatives | C15: The primary reason for travel is to visit family or friends living in Jersey.
... A32: 29 | B32: Customer segments | C32: Consumer audience segments created by Visit Jersey, use to inform their marketing approach. More information can be found here - https://business.jersey.com/marketing/marketing-plans/segmentation/

Sheet Table 1
A1: Table 1
A2: Estimated visitor spend (£)
B5: Total spend | E5: Other spend metrics
A6: Quarter end date | B6: Total spend | C6: Percentage change YoY (nominal) | D6: Percentage change YoY (real) | E6: Average spend per visit | F6: Median spend per visit | G6: Average spend per visitor night
A7: 43539
A8: 43631
A9: 43723
A10: 43814
A11: 43905
A12: 43997
A13: 44089
A14: 44180
A15: 44270
A16: 44362
A17: 44454
A18: 44545
A19: 44635 | B19: 19210000 | E19: 440 | G19: 110
A20: 44727 | B20: 76130000 | E20: 510 | G20: 120
A21: 44819 | B21: 117700000 | E21: 610 | G21: 110
A22: 44910 | B22: 35560000 | E22: 420 | G22: 110
A23: 45000 | B23: 24530000 | C23: 0.27693909 | D23: 0.13304267 | E23: 450 | G23: 120
A24: 45092 | B24: 79180000 | C24: 0.04006305 | D24: -0.062161362 | E24: 470 | G24: 120
A25: 45184 | B25: 146770000 | C25: 0.24698386 | D25: 0.13259206 | E25: 680 | G25: 140
A26: 45275 | B26: 39230000 | C26: 0.10320585 | D26: 0.026237999 | E26: 460 | G26: 120
A27: 45366 | B27: 27100000 | C27: 0.10476967 | D27: 0.045193633 | E27: 450 | F27: 350 | G27: 120
A28: 45458 | B28: 89580000 | C28: 0.1313463 | D28: 0.077472666 | E28: 490 | F28: 390 | G28: 140
A29: 45550 | B29: 135320000 | C29: -0.078013218 | D29: -0.1048672 | E29: 590 | F29: 470 | G29: 140
A30: 45641 | B30: 38500000 | C30: -0.018608208 | D30: -0.042544593 | E30: 400 | F30: 360 | G30: 120
A31: 45731 | B31: 21910000 | C31: -0.19151292 | D31: -0.20969004 | E31: 400 | F31: 320 | G31: 110
A32: 45823 | B32: 81030000 | C32: -0.095445412 | D32: -0.11836785 | E32: 580 | F32: 500 | G32: 150
A33: 45915 | B33: 123380000 | C33: -0.088235294 | D33: -0.11306935 | E33: 650 | F33: 540 | G33: 140
A34: 46006 | B34: 36290000 | C34: -0.057402597 | D34: -0.083076457 | E34: 490 | F34: 440 | G34: 130
A35: 46096 | B35: 21180000 | C35: -0.03331812 | D35: -0.058732346 | E35: 390 | F35: 310 | G35: 110

Sheet RPI
A1: Quarter reference date | B1: RPI index numbers | C1: RPI annual percentage change
A2: 32582 | B2: 58.3 | C2: 7.9
A3: 32674 | B3: 59.8 | C3: 8.5
A4: 32766 | B4: 60.4 | C4: 7.8
A5: 32857 | B5: 61.4 | C5: 8.3
A6: 32947 | B6: 63.3 | C6: 8.7
A7: 33039 | B7: 65.4 | C7: 9.4
A8: 33131 | B8: 66.8 | C8: 10.6
A9: 33222 | B9: 67.2 | C9: 9.4
A10: 33312 | B10: 69.1 | C10: 9.1
A11: 33404 | B11: 70.6 | C11: 8
A12: 33496 | B12: 72.1 | C12: 8
A13: 33587 | B13: 72.3 | C13: 7.7
... A151: 46188 | B151: 245.7 | C151: 2.8

Sheet Table 2
A1: Table 2
A2: Estimated total visitor spend (£)
A3: By key characteristics
B5: Purpose of visit | E5: Country of residence | I5: Mode of departure | N5: Spend category
A6: Quarter end date | B6: Leisure | C6: Visiting Friends and Relatives | D6: Businss and Other purposes | E6: United Kingdom | F6: France | G6: Other Channel Island | H6: Other | I6: Scheduled Air | J6: Scheduled Sea | K6: Private Planes | L6: Yachtsmen | M6: Cruise | N6: Accommodation | O6: Packaged holiday on-island spend | P6: Eating and drinking | Q6: Retail | R6: Transport | S6: Entertainment | T6: Other
A7: 43539
A8: 43631
A9: 43723
A10: 43814
A11: 43905
A12: 43997
A13: 44089
A14: 44180
A15: 44270
A16: 44362
A17: 44454
A18: 44545
... A26: 45275
A27: 45366 | B27: 19830000 | C27: 4520000 | D27: 2750000 | E27: 21360000 | F27: - | G27: 1780000 | H27: - | I27: 23000000 | J27: 3950000 | K27: 130000 | L27: 20000 | M27: 0 | N27: 8790000 | O27: 3500000 | P27: 7460000 | Q27: 4470000 | R27: 1600000 | S27: 850000 | T27: 420000
A28: 45458 | B28: 75960000 | C28: 9960000 | D28: 3650000 | E28: 67970000 | F28: 11310000 | G28: 2880000 | H28: 7420000 | I28: 65010000 | J28: 23420000 | K28: 290000 | L28: 640000 | M28: 220000 | N28: 33320000 | O28: 15970000 | P28: 20360000 | Q28: 8640000 | R28: 5290000 | S28: 4520000 | T28: 1480000
A29: 45550 | B29: 117360000 | C29: 13600000 | D29: 4360000 | E29: 107040000 | F29: 11580000 | G29: - | H29: 11500000 | I29: 100580000 | J29: 33460000 | K29: 240000 | L29: 1040000 | M29: 0 | N29: 53190000 | O29: 30480000 | P29: 26010000 | Q29: 10910000 | R29: 6880000 | S29: 5770000 | T29: 2090000
A30: 45641 | B30: 31160000 | C30: 5740000 | D30: - | E30: 30760000 | F30: - | G30: - | H30: 1630000 | I30: 31630000 | J30: 6690000 | K30: 150000 | L30: 20000 | M30: 0 | N30: 11940000 | O30: 8570000 | P30: 9370000 | Q30: 4170000 | R30: 2600000 | S30: 1650000 | T30: 190000
A31: 45731 | B31: 16590000 | C31: 4030000 | D31: 1300000 | E31: 17870000 | F31: - | G31: - | H31: - | I31: 19170000 | J31: 2640000 | K31: 90000 | L31: 10000 | M31: 0 | N31: 6660000 | O31: 4210000 | P31: 6150000 | Q31: 2480000 | R31: 1510000 | S31: 620000 | T31: 290000
A32: 45823 | B32: 69850000 | C32: 6850000 | D32: 4330000 | E32: 66110000 | F32: 4040000 | G32: - | H32: 9040000 | I32: 65110000 | J32: 14960000 | K32: 310000 | L32: 470000 | M32: 180000 | N32: 27060000 | O32: 24500000 | P32: 16090000 | Q32: 5190000 | R32: 4200000 | S32: 3190000 | T32: 800000
A33: 45915 | B33: 107400000 | C33: 11660000 | D33: 4320000 | E33: 101570000 | F33: 2760000 | G33: - | H33: 14910000 | I33: 93480000 | J33: 28660000 | K33: 270000 | L33: 900000 | M33: 80000 | N33: 49220000 | O33: 29940000 | P33: 23640000 | Q33: 8290000 | R33: 5750000 | S33: 4360000 | T33: 2170000
A34: 46006 | B34: 29280000 | C34: 4400000 | D34: 2600000 | E34: 30990000 | F34: 1060000 | G34: - | H34: 2490000 | I34: 32750000 | J34: 3270000 | K34: 230000 | L34: 40000 | M34: 0 | N34: 9720000 | O34: 10840000 | P34: 8270000 | Q34: 3840000 | R34: 1820000 | S34: 1460000 | T34: 340000
A35: 46096 | B35: 14620000 | C35: 4310000 | D35: 2250000 | E35: 17770000 | F35: - | G35: - | H35: 1440000 | I35: 18980000 | J35: 1940000 | K35: 230000 | L35: 40000 | M35: 0 | N35: 5480000 | O35: 4190000 | P35: 6700000 | Q35: 2140000 | R35: 1650000 | S35: 810000 | T35: 220000

Sheet Hidden Table 2
A1: Table 2
A2: Estimated visitor spend (£)
A3: By key characteristics
B5: Purpose of visit | F5: Country of residence | J5: Mode of departure | O5: Spend category
A6: Quarter end date | B6: Leisure | C6: Business | D6: Visiting Friends and Relatives | E6: Other | F6: United Kingdom | G6: France | H6: Other Channel Islands | I6: Other | J6: Scheduled Air | K6: Scheduled Sea | L6: Private Planes | M6: Yachtsmen | N6: Cruise | O6: Accommodation | P6: Packaged holiday on-island spend | Q6: Eating and drinking | R6: Retail | S6: Transport | T6: Entertainment | U6: Other
A7: 43539
A8: 43631
A9: 43723
A10: 43814
A11: 43905
A12: 43997
A13: 44089
A14: 44180
A15: 44270
A16: 44362
A17: 44454
A18: 44545
... A26: 45275
A27: 45366 | B27: =((SUMIFS(#REF!,#REF!,"Include",#REF!,"Holiday",#REF!,$A27))) -> #REF! | C27: =((SUMIFS(#REF!,#REF!,"Include",#REF!,"Business",#REF!,$A27))) -> #REF! | D27: =((SUMIFS(#REF!,#REF!,"Include",#REF!,"VFR",#REF!,$A27))) -> #REF! | E27: =((SUMIFS(#REF!,#REF!,"Include",#REF!,"Other",#REF!,$A27))) -> #REF! | F27: =SUMIFS(#REF!,#REF!,"Include",#REF!,"UK",#REF!,$A27) -> #REF! | G27: =SUMIFS(#REF!,#REF!,"Include",#REF!,"France",#REF!,$A27) -> #REF! | H27: =SUMIFS(#REF!,#REF!,"Include",#REF!,"Other Channel Island",#REF!,$A27) -> #REF! | I27: {=SUM(SUMIFS(#REF!,#REF!,"Include",#REF!,{"Other country","Germany","Ireland"},#REF!,$A27))} -> #REF! | J27: =SUMIFS(#REF!,#REF!,"Include",#REF!,"Scheduled air",#REF!,$A27) -> #REF! | K27: =SUMIFS(#REF!,#REF!,"Include",#REF!,"Scheduled sea",#REF!,$A27) -> #REF! | L27: =SUMIFS(#REF!,#REF!,"Include",#REF!,"Private plane",#REF!,$A27) -> #REF! | M27: =SUMIFS(#REF!,#REF!,"Include",#REF!,"Visiting yacht",#REF!,$A27) -> #REF! | N27: =SUMIFS(#REF!,#REF!,"Include",#REF!,"Cruise",#REF!,$A27) -> #REF! | O27: =(GETPIVOTDATA("Spend ",'Spend breakdown'!$G$3,"Type ","Accommodation ","Year ",2024,"Quarter ",1)/GETPIVOTDATA("Spend ",'Spend breakdown'!$G$3,"Year ",2024,"Quarter ",1))*'Table 1'!$B$27 -> 8793244.7 | P27: =GETPIVOTDATA("Spend ",'Spend breakdown'!$G$3,"Type ","Packaged","Year ",2024,"Quarter ",1)/GETPIVOTDATA("Spend ",'Spend breakdown'!$G$3,"Year ",2024,"Quarter ",1)*'Table 1'!B27 -> 3501292 | Q27: =GETPIVOTDATA("Spend ",'Spend breakdown'!$G$3,"Type ","Eating and drinking ","Year ",2024,"Quarter ",1)/GETPIVOTDATA("Spend ",'Spend breakdown'!$G$3,"Year ",2024,"Quarter ",1)*'Table 1'!B27 -> 7462753.8 | R27: =GETPIVOTDATA("Spend ",'Spend breakdown'!$G$3,"Type ","Retail","Year ",2024,"Quarter ",1)/GETPIVOTDATA("Spend ",'Spend breakdown'!$G$3,"Year ",2024,"Quarter ",1)*'Table 1'!B27 -> 4471650.1 | S27: =GETPIVOTDATA("Spend ",'Spend breakdown'!$G$3,"Type ","Transport","Year ",2024,"Quarter ",1)/GETPIVOTDATA("Spend ",'Spend breakdown'!$G$3,"Year ",2024,"Quarter ",1)*'Table 1'!B27 -> 1600590.6 | T27: =GETPIVOTDATA("Spend ",'Spend breakdown'!$G$3,"Type ","Entertainment ","Year ",2024,"Quarter ",1)/GETPIVOTDATA("Spend ",'Spend breakdown'!$G$3,"Year ",2024,"Quarter ",1)*'Table 1'!B27 -> 850313.77 | U27: =GETPIVOTDATA("Spend ",'Spend breakdown'!$G$3,"Type ","Other","Year ",2024,"Quarter ",1)/GETPIVOTDATA("Spend ",'Spend breakdown'!$G$3,"Year ",2024,"Quarter ",1)*'Table 1'!B27 -> 420155.04
A28: 45458 | B28: =((SUMIFS(#REF!,#REF!,"Include",#REF!,"Holiday",#REF!,$A28))) -> #REF! | C28: =((SUMIFS(#REF!,#REF!,"Include",#REF!,"Business",#REF!,$A28))) -> #REF! | D28: =((SUMIFS(#REF!,#REF!,"Include",#REF!,"VFR",#REF!,$A28))) -> #REF! | E28: =((SUMIFS(#REF!,#REF!,"Include",#REF!,"Other",#REF!,$A28))) -> #REF! | F28: =SUMIFS(#REF!,#REF!,"Include",#REF!,"UK",#REF!,$A28) -> #REF! | G28: =SUMIFS(#REF!,#REF!,"Include",#REF!,"France",#REF!,$A28) -> #REF! | H28: =SUMIFS(#REF!,#REF!,"Include",#REF!,"Other Channel Island",#REF!,$A28) -> #REF! | I28: {=SUM(SUMIFS(#REF!,#REF!,"Include",#REF!,{"Other country","Germany","Ireland"},#REF!,$A28))} -> #REF! | J28: =SUMIFS(#REF!,#REF!,"Include",#REF!,"Scheduled air",#REF!,$A28) -> #REF! | K28: =SUMIFS(#REF!,#REF!,"Include",#REF!,"Scheduled sea",#REF!,$A28) -> #REF! | L28: =SUMIFS(#REF!,#REF!,"Include",#REF!,"Private plane",#REF!,$A28) -> #REF! | M28: =SUMIFS(#REF!,#REF!,"Include",#REF!,"Visiting yacht",#REF!,$A28) -> #REF! | N28: =SUMIFS(#REF!,#REF!,"Include",#REF!,"Cruise",#REF!,$A28) -> #REF! | O28: =(GETPIVOTDATA("Spend ",'Spend breakdown'!$G$3,"Type ","Accommodation ","Year ",2024,"Quarter ",2)/GETPIVOTDATA("Spend ",'Spend breakdown'!$G$3,"Year ",2024,"Quarter ",2))*'Table 1'!$B$28 -> 33320000 | P28: =GETPIVOTDATA("Spend ",'Spend breakdown'!$G$3,"Type ","Packaged","Year ",2024,"Quarter ",2)/GETPIVOTDATA("Spend ",'Spend breakdown'!$G$3,"Year ",2024,"Quarter ",2)*'Table 1'!B28 -> 15970000 | Q28: =GETPIVOTDATA("Spend ",'Spend breakdown'!$G$3,"Type ","Eating and drinking ","Year ",2024,"Quarter ",2)/GETPIVOTDATA("Spend ",'Spend breakdown'!$G$3,"Year ",2024,"Quarter ",2)*'Table 1'!B28 -> 20360000 | R28: =GETPIVOTDATA("Spend ",'Spend breakdown'!$G$3,"Type ","Retail","Year ",2024,"Quarter ",2)/GETPIVOTDATA("Spend ",'Spend breakdown'!$G$3,"Year ",2024,"Quarter ",2)*'Table 1'!B28 -> 8640000 | S28: =GETPIVOTDATA("Spend ",'Spend breakdown'!$G$3,"Type ","Transport","Year ",2024,"Quarter ",2)/GETPIVOTDATA("Spend ",'Spend breakdown'!$G$3,"Year ",2024,"Quarter ",2)*'Table 1'!B28 -> 5290000 | T28: =GETPIVOTDATA("Spend ",'Spend breakdown'!$G$3,"Type ","Entertainment ","Year ",2024,"Quarter ",2)/GETPIVOTDATA("Spend ",'Spend breakdown'!$G$3,"Year ",2024,"Quarter ",2)*'Table 1'!B28 -> 4520000 | U28: =GETPIVOTDATA("Spend ",'Spend breakdown'!$G$3,"Type ","Other","Year ",2024,"Quarter ",2)/GETPIVOTDATA("Spend ",'Spend breakdown'!$G$3,"Year ",2024,"Quarter ",2)*'Table 1'!B28 -> 1480000
A29: 45550 | B29: =((SUMIFS(#REF!,#REF!,"Include",#REF!,"Holiday",#REF!,$A29))) -> #REF! | C29: =((SUMIFS(#REF!,#REF!,"Include",#REF!,"Business",#REF!,$A29))) -> #REF! | D29: =((SUMIFS(#REF!,#REF!,"Include",#REF!,"VFR",#REF!,$A29))) -> #REF! | E29: =((SUMIFS(#REF!,#REF!,"Include",#REF!,"Other",#REF!,$A29))) -> #REF! | F29: =SUMIFS(#REF!,#REF!,"Include",#REF!,"UK",#REF!,$A29) -> #REF! | G29: =SUMIFS(#REF!,#REF!,"Include",#REF!,"France",#REF!,$A29) -> #REF! | H29: =SUMIFS(#REF!,#REF!,"Include",#REF!,"Other Channel Island",#REF!,$A29) -> #REF! | I29: {=SUM(SUMIFS(#REF!,#REF!,"Include",#REF!,{"Other country","Germany","Ireland"},#REF!,$A29))} -> #REF! | J29: =SUMIFS(#REF!,#REF!,"Include",#REF!,"Scheduled air",#REF!,$A29) -> #REF! | K29: =SUMIFS(#REF!,#REF!,"Include",#REF!,"Scheduled sea",#REF!,$A29) -> #REF! | L29: =SUMIFS(#REF!,#REF!,"Include",#REF!,"Private plane",#REF!,$A29) -> #REF! | M29: =SUMIFS(#REF!,#REF!,"Include",#REF!,"Visiting yacht",#REF!,$A29) -> #REF! | N29: =SUMIFS(#REF!,#REF!,"Include",#REF!,"Cruise",#REF!,$A29) -> #REF! | O29: =(GETPIVOTDATA("Spend ",'Spend breakdown'!$G$3,"Type ","Accommodation ","Year ",2024,"Quarter ",3)/GETPIVOTDATA("Spend ",'Spend breakdown'!$G$3,"Year ",2024,"Quarter ",3))*'Table 1'!$B$29 -> 53192138 | P29: =GETPIVOTDATA("Spend ",'Spend breakdown'!$G$3,"Type ","Packaged","Year ",2024,"Quarter ",3)/GETPIVOTDATA("Spend ",'Spend breakdown'!$G$3,"Year ",2024,"Quarter ",3)*'Table 1'!B29 -> 30475496 | Q29: =GETPIVOTDATA("Spend ",'Spend breakdown'!$G$3,"Type ","Eating and drinking ","Year ",2024,"Quarter ",3)/GETPIVOTDATA("Spend ",'Spend breakdown'!$G$3,"Year ",2024,"Quarter ",3)*'Table 1'!B29 -> 26006156 | R29: =GETPIVOTDATA("Spend ",'Spend breakdown'!$G$3,"Type ","Retail","Year ",2024,"Quarter ",3)/GETPIVOTDATA("Spend ",'Spend breakdown'!$G$3,"Year ",2024,"Quarter ",3)*'Table 1'!B29 -> 10908388 | S29: =GETPIVOTDATA("Spend ",'Spend breakdown'!$G$3,"Type ","Transport","Year ",2024,"Quarter ",3)/GETPIVOTDATA("Spend ",'Spend breakdown'!$G$3,"Year ",2024,"Quarter ",3)*'Table 1'!B29 -> 6878983.3 | T29: =GETPIVOTDATA("Spend ",'Spend breakdown'!$G$3,"Type ","Entertainment ","Year ",2024,"Quarter ",3)/GETPIVOTDATA("Spend ",'Spend breakdown'!$G$3,"Year ",2024,"Quarter ",3)*'Table 1'!B29 -> 5769147.3 | U29: =GETPIVOTDATA("Spend ",'Spend breakdown'!$G$3,"Type ","Other","Year ",2024,"Quarter ",3)/GETPIVOTDATA("Spend ",'Spend breakdown'!$G$3,"Year ",2024,"Quarter ",3)*'Table 1'!B29 -> 2089691.1
A30: 45641 | B30: =((SUMIFS(#REF!,#REF!,"Include",#REF!,"Holiday",#REF!,$A30))) -> #REF! | C30: =((SUMIFS(#REF!,#REF!,"Include",#REF!,"Business",#REF!,$A30))) -> #REF! | D30: =((SUMIFS(#REF!,#REF!,"Include",#REF!,"VFR",#REF!,$A30))) -> #REF! | E30: =((SUMIFS(#REF!,#REF!,"Include",#REF!,"Other",#REF!,$A30))) -> #REF! | F30: =SUMIFS(#REF!,#REF!,"Include",#REF!,"UK",#REF!,$A30) -> #REF! | G30: =SUMIFS(#REF!,#REF!,"Include",#REF!,"France",#REF!,$A30) -> #REF! | H30: =SUMIFS(#REF!,#REF!,"Include",#REF!,"Other Channel Island",#REF!,$A30) -> #REF! | I30: {=SUM(SUMIFS(#REF!,#REF!,"Include",#REF!,{"Other country","Germany","Ireland"},#REF!,$A30))} -> #REF! | J30: =SUMIFS(#REF!,#REF!,"Include",#REF!,"Scheduled air",#REF!,$A30) -> #REF! | K30: =SUMIFS(#REF!,#REF!,"Include",#REF!,"Scheduled sea",#REF!,$A30) -> #REF! | L30: =SUMIFS(#REF!,#REF!,"Include",#REF!,"Private plane",#REF!,$A30) -> #REF! | M30: =SUMIFS(#REF!,#REF!,"Include",#REF!,"Visiting yacht",#REF!,$A30) -> #REF! | N30: =SUMIFS(#REF!,#REF!,"Include",#REF!,"Cruise",#REF!,$A30) -> #REF! | O30: =(GETPIVOTDATA("Spend ",'Spend breakdown'!$G$3,"Type ","Accommodation ","Year ",2024,"Quarter ",4)/GETPIVOTDATA("Spend ",'Spend breakdown'!$G$3,"Year ",2024,"Quarter ",4))*38498721 -> 11944759 | P30: =GETPIVOTDATA("Spend ",'Spend breakdown'!$G$3,"Type ","Packaged","Year ",2024,"Quarter ",4)/GETPIVOTDATA("Spend ",'Spend breakdown'!$G$3,"Year ",2024,"Quarter ",4)*'Table 1'!B30 -> 8566727.6 | Q30: =GETPIVOTDATA("Spend ",'Spend breakdown'!$G$3,"Type ","Eating and drinking ","Year ",2024,"Quarter ",4)/GETPIVOTDATA("Spend ",'Spend breakdown'!$G$3,"Year ",2024,"Quarter ",4)*'Table 1'!B30 -> 9371115.2 | R30: =GETPIVOTDATA("Spend ",'Spend breakdown'!$G$3,"Type ","Retail","Year ",2024,"Quarter ",4)/GETPIVOTDATA("Spend ",'Spend breakdown'!$G$3,"Year ",2024,"Quarter ",4)*'Table 1'!B30 -> 4172760.5 | S30: =GETPIVOTDATA("Spend ",'Spend breakdown'!$G$3,"Type ","Transport","Year ",2024,"Quarter ",4)/GETPIVOTDATA("Spend ",'Spend breakdown'!$G$3,"Year ",2024,"Quarter ",4)*'Table 1'!B30 -> 2604204.8 | T30: =GETPIVOTDATA("Spend ",'Spend breakdown'!$G$3,"Type ","Entertainment ","Year ",2024,"Quarter ",4)/GETPIVOTDATA("Spend ",'Spend breakdown'!$G$3,"Year ",2024,"Quarter ",4)*'Table 1'!B30 -> 1648994.5 | U30: =GETPIVOTDATA("Spend ",'Spend breakdown'!$G$3,"Type ","Other","Year ",2024,"Quarter ",4)/GETPIVOTDATA("Spend ",'Spend breakdown'!$G$3,"Year ",2024,"Quarter ",4)*'Table 1'!B30 -> 191042.05
A31: 45731 | B31: =((SUMIFS(#REF!,#REF!,"Include",#REF!,"Holiday",#REF!,$A31))) -> #REF! | C31: =((SUMIFS(#REF!,#REF!,"Include",#REF!,"Business",#REF!,$A31))) -> #REF! | D31: =((SUMIFS(#REF!,#REF!,"Include",#REF!,"VFR",#REF!,$A31))) -> #REF! | E31: =((SUMIFS(#REF!,#REF!,"Include",#REF!,"Other",#REF!,$A31))) -> #REF! | F31: =SUMIFS(#REF!,#REF!,"Include",#REF!,"UK",#REF!,$A31) -> #REF! | G31: =SUMIFS(#REF!,#REF!,"Include",#REF!,"France",#REF!,$A31) -> #REF! | H31: =SUMIFS(#REF!,#REF!,"Include",#REF!,"Other Channel Island",#REF!,$A31) -> #REF! | I31: {=SUM(SUMIFS(#REF!,#REF!,"Include",#REF!,{"Other country","Germany","Ireland"},#REF!,$A31))} -> #REF! | J31: =SUMIFS(#REF!,#REF!,"Include",#REF!,"Scheduled air",#REF!,$A31) -> #REF! | K31: =SUMIFS(#REF!,#REF!,"Include",#REF!,"Scheduled sea",#REF!,$A31) -> #REF! | L31: =SUMIFS(#REF!,#REF!,"Include",#REF!,"Private plane",#REF!,$A31) -> #REF! | M31: =SUMIFS(#REF!,#REF!,"Include",#REF!,"Visiting yacht",#REF!,$A31) -> #REF! | N31: =SUMIFS(#REF!,#REF!,"Include",#REF!,"Cruise",#REF!,$A31) -> #REF! | O31: =(GETPIVOTDATA("Spend ",'Spend breakdown'!$G$3,"Type ","Accommodation ","Year ",2025,"Quarter ",1)/GETPIVOTDATA("Spend ",'Spend breakdown'!$G$3,"Year ",2025,"Quarter ",1))*'Table 1'!$B$31 -> 6659200.2 | P31: =GETPIVOTDATA("Spend ",'Spend breakdown'!$G$3,"Type ","Packaged","Year ",2025,"Quarter ",1)/GETPIVOTDATA("Spend ",'Spend breakdown'!$G$3,"Year ",2025,"Quarter ",1)*'Table 1'!B31 -> 4205810.6 | Q31: =GETPIVOTDATA("Spend ",'Spend breakdown'!$G$3,"Type ","Eating and drinking ","Year ",2025,"Quarter ",1)/GETPIVOTDATA("Spend ",'Spend breakdown'!$G$3,"Year ",2025,"Quarter ",1)*'Table 1'!B31 -> 6147682.7 | R31: =GETPIVOTDATA("Spend ",'Spend breakdown'!$G$3,"Type ","Retail","Year ",2025,"Quarter ",1)/GETPIVOTDATA("Spend ",'Spend breakdown'!$G$3,"Year ",2025,"Quarter ",1)*'Table 1'!B31 -> 2481807.2 | S31: =GETPIVOTDATA("Spend ",'Spend breakdown'!$G$3,"Type ","Transport","Year ",2025,"Quarter ",1)/GETPIVOTDATA("Spend ",'Spend breakdown'!$G$3,"Year ",2025,"Quarter ",1)*'Table 1'!B31 -> 1506134.9 | T31: =GETPIVOTDATA("Spend ",'Spend breakdown'!$G$3,"Type ","Entertainment ","Year ",2025,"Quarter ",1)/GETPIVOTDATA("Spend ",'Spend breakdown'!$G$3,"Year ",2025,"Quarter ",1)*'Table 1'!B31 -> 615715.52 | U31: =GETPIVOTDATA("Spend ",'Spend breakdown'!$G$3,"Type ","Other","Year ",2025,"Quarter ",1)/GETPIVOTDATA("Spend ",'Spend breakdown'!$G$3,"Year ",2025,"Quarter ",1)*'Table 1'!B31 -> 293648.94
A32: 45823 | B32: =((SUMIFS(#REF!,#REF!,"Include",#REF!,"Holiday",#REF!,$A32))) -> #REF! | C32: =((SUMIFS(#REF!,#REF!,"Include",#REF!,"Business",#REF!,$A32))) -> #REF! | D32: =((SUMIFS(#REF!,#REF!,"Include",#REF!,"VFR",#REF!,$A32))) -> #REF! | E32: =((SUMIFS(#REF!,#REF!,"Include",#REF!,"Other",#REF!,$A32))) -> #REF! | F32: =SUMIFS(#REF!,#REF!,"Include",#REF!,"UK",#REF!,$A32) -> #REF! | G32: =SUMIFS(#REF!,#REF!,"Include",#REF!,"France",#REF!,$A32) -> #REF! | H32: =SUMIFS(#REF!,#REF!,"Include",#REF!,"Other Channel Island",#REF!,$A32) -> #REF! | I32: {=SUM(SUMIFS(#REF!,#REF!,"Include",#REF!,{"Other country","Germany","Ireland"},#REF!,$A32))} -> #REF! | J32: =SUMIFS(#REF!,#REF!,"Include",#REF!,"Scheduled air",#REF!,$A32) -> #REF! | K32: =SUMIFS(#REF!,#REF!,"Include",#REF!,"Scheduled sea",#REF!,$A32) -> #REF! | L32: =SUMIFS(#REF!,#REF!,"Include",#REF!,"Private plane",#REF!,$A32) -> #REF! | M32: =SUMIFS(#REF!,#REF!,"Include",#REF!,"Visiting yacht",#REF!,$A32) -> #REF! | N32: =SUMIFS(#REF!,#REF!,"Include",#REF!,"Cruise",#REF!,$A32) -> #REF! | O32: =(GETPIVOTDATA("Spend ",'Spend breakdown'!$G$3,"Type ","Accommodation ","Year ",2025,"Quarter ",2)/GETPIVOTDATA("Spend ",'Spend breakdown'!$G$3,"Year ",2025,"Quarter ",2))*'Table 1'!B32 -> 27062784 | P32: =GETPIVOTDATA("Spend ",'Spend breakdown'!$G$3,"Type ","Packaged","Year ",2025,"Quarter ",2)/GETPIVOTDATA("Spend ",'Spend breakdown'!$G$3,"Year ",2025,"Quarter ",2)*'Table 1'!B32 -> 24504343 | Q32: =GETPIVOTDATA("Spend ",'Spend breakdown'!$G$3,"Type ","Eating and drinking ","Year ",2025,"Quarter ",2)/GETPIVOTDATA("Spend ",'Spend breakdown'!$G$3,"Year ",2025,"Quarter ",2)*'Table 1'!B32 -> 16089515 | R32: =GETPIVOTDATA("Spend ",'Spend breakdown'!$G$3,"Type ","Retail","Year ",2025,"Quarter ",2)/GETPIVOTDATA("Spend ",'Spend breakdown'!$G$3,"Year ",2025,"Quarter ",2)*'Table 1'!B32 -> 5185385.1 | S32: =GETPIVOTDATA("Spend ",'Spend breakdown'!$G$3,"Type ","Transport","Year ",2025,"Quarter ",2)/GETPIVOTDATA("Spend ",'Spend breakdown'!$G$3,"Year ",2025,"Quarter ",2)*'Table 1'!B32 -> 4197699.7 | T32: =GETPIVOTDATA("Spend ",'Spend breakdown'!$G$3,"Type ","Entertainment ","Year ",2025,"Quarter ",2)/GETPIVOTDATA("Spend ",'Spend breakdown'!$G$3,"Year ",2025,"Quarter ",2)*'Table 1'!B32 -> 3190243.5 | U32: =GETPIVOTDATA("Spend ",'Spend breakdown'!$G$3,"Type ","Other","Year ",2025,"Quarter ",2)/GETPIVOTDATA("Spend ",'Spend breakdown'!$G$3,"Year ",2025,"Quarter ",2)*'Table 1'!B32 -> 800029.78
A33: 45915 | B33: =((SUMIFS(#REF!,#REF!,"Include",#REF!,"Holiday",#REF!,$A33))) -> #REF! | C33: =((SUMIFS(#REF!,#REF!,"Include",#REF!,"Business",#REF!,$A33))) -> #REF! | D33: =((SUMIFS(#REF!,#REF!,"Include",#REF!,"VFR",#REF!,$A33))) -> #REF! | E33: =((SUMIFS(#REF!,#REF!,"Include",#REF!,"Other",#REF!,$A33))) -> #REF! | F33: =SUMIFS(#REF!,#REF!,"Include",#REF!,"UK",#REF!,$A33) -> #REF! | G33: =SUMIFS(#REF!,#REF!,"Include",#REF!,"France",#REF!,$A33) -> #REF! | H33: =SUMIFS(#REF!,#REF!,"Include",#REF!,"Other Channel Island",#REF!,$A33) -> #REF! | I33: {=SUM(SUMIFS(#REF!,#REF!,"Include",#REF!,{"Other country","Germany","Ireland"},#REF!,$A33))} -> #REF! | J33: =SUMIFS(#REF!,#REF!,"Include",#REF!,"Scheduled air",#REF!,$A33) -> #REF! | K33: =SUMIFS(#REF!,#REF!,"Include",#REF!,"Scheduled sea",#REF!,$A33) -> #REF! | L33: =SUMIFS(#REF!,#REF!,"Include",#REF!,"Private plane",#REF!,$A33) -> #REF! | M33: =SUMIFS(#REF!,#REF!,"Include",#REF!,"Visiting yacht",#REF!,$A33) -> #REF! | N33: =SUMIFS(#REF!,#REF!,"Include",#REF!,"Cruise",#REF!,$A33) -> #REF! | O33: =(GETPIVOTDATA("Spend ",'Spend breakdown'!$G$3,"Type ","Accommodation ","Year ",2025,"Quarter ",3)/GETPIVOTDATA("Spend ",'Spend breakdown'!$G$3,"Year ",2025,"Quarter ",3))*'Table 1'!B33 -> 49219998 | P33: =GETPIVOTDATA("Spend ",'Spend breakdown'!$G$3,"Type ","Packaged","Year ",2025,"Quarter ",3)/GETPIVOTDATA("Spend ",'Spend breakdown'!$G$3,"Year ",2025,"Quarter ",3)*'Table 1'!B33 -> 29941995 | Q33: =GETPIVOTDATA("Spend ",'Spend breakdown'!$G$3,"Type ","Eating and drinking ","Year ",2025,"Quarter ",3)/GETPIVOTDATA("Spend ",'Spend breakdown'!$G$3,"Year ",2025,"Quarter ",3)*'Table 1'!B33 -> 23643015 | R33: =GETPIVOTDATA("Spend ",'Spend breakdown'!$G$3,"Type ","Retail","Year ",2025,"Quarter ",3)/GETPIVOTDATA("Spend ",'Spend breakdown'!$G$3,"Year ",2025,"Quarter ",3)*'Table 1'!B33 -> 8292774.8 | S33: =GETPIVOTDATA("Spend ",'Spend breakdown'!$G$3,"Type ","Transport","Year ",2025,"Quarter ",3)/GETPIVOTDATA("Spend ",'Spend breakdown'!$G$3,"Year ",2025,"Quarter ",3)*'Table 1'!B33 -> 5751277.3 | T33: =GETPIVOTDATA("Spend ",'Spend breakdown'!$G$3,"Type ","Entertainment ","Year ",2025,"Quarter ",3)/GETPIVOTDATA("Spend ",'Spend breakdown'!$G$3,"Year ",2025,"Quarter ",3)*'Table 1'!B33 -> 4364085.4 | U33: =GETPIVOTDATA("Spend ",'Spend breakdown'!$G$3,"Type ","Other","Year ",2025,"Quarter ",3)/GETPIVOTDATA("Spend ",'Spend breakdown'!$G$3,"Year ",2025,"Quarter ",3)*'Table 1'!B33 -> 2166854.5
A34: 46006 | B34: =((SUMIFS(#REF!,#REF!,"Include",#REF!,"Holiday",#REF!,$A34))) -> #REF! | C34: =((SUMIFS(#REF!,#REF!,"Include",#REF!,"Business",#REF!,$A34))) -> #REF! | D34: =((SUMIFS(#REF!,#REF!,"Include",#REF!,"VFR",#REF!,$A34))) -> #REF! | E34: =((SUMIFS(#REF!,#REF!,"Include",#REF!,"Other",#REF!,$A34))) -> #REF! | F34: =SUMIFS(#REF!,#REF!,"Include",#REF!,"UK",#REF!,$A34) -> #REF! | G34: =SUMIFS(#REF!,#REF!,"Include",#REF!,"France",#REF!,$A34) -> #REF! | H34: =SUMIFS(#REF!,#REF!,"Include",#REF!,"Other Channel Island",#REF!,$A34) -> #REF! | I34: {=SUM(SUMIFS(#REF!,#REF!,"Include",#REF!,{"Other country","Germany","Ireland"},#REF!,$A34))} -> #REF! | J34: =SUMIFS(#REF!,#REF!,"Include",#REF!,"Scheduled air",#REF!,$A34) -> #REF! | K34: =SUMIFS(#REF!,#REF!,"Include",#REF!,"Scheduled sea",#REF!,$A34) -> #REF! | L34: =SUMIFS(#REF!,#REF!,"Include",#REF!,"Private plane",#REF!,$A34) -> #REF! | M34: =SUMIFS(#REF!,#REF!,"Include",#REF!,"Visiting yacht",#REF!,$A34) -> #REF! | N34: =SUMIFS(#REF!,#REF!,"Include",#REF!,"Cruise",#REF!,$A34) -> #REF! | O34: =(GETPIVOTDATA("Spend ",'Spend breakdown'!$G$3,"Type ","Accommodation ","Year ",2025,"Quarter ",4)/GETPIVOTDATA("Spend ",'Spend breakdown'!$G$3,"Year ",2025,"Quarter ",4))*'Table 1'!B34 -> 9720000 | P34: =GETPIVOTDATA("Spend ",'Spend breakdown'!$G$3,"Type ","Packaged","Year ",2025,"Quarter ",4)/GETPIVOTDATA("Spend ",'Spend breakdown'!$G$3,"Year ",2025,"Quarter ",4)*'Table 1'!B34 -> 10840000 | Q34: =GETPIVOTDATA("Spend ",'Spend breakdown'!$G$3,"Type ","Eating and drinking ","Year ",2025,"Quarter ",4)/GETPIVOTDATA("Spend ",'Spend breakdown'!$G$3,"Year ",2025,"Quarter ",4)*'Table 1'!B34 -> 8270000 | R34: =GETPIVOTDATA("Spend ",'Spend breakdown'!$G$3,"Type ","Retail","Year ",2025,"Quarter ",4)/GETPIVOTDATA("Spend ",'Spend breakdown'!$G$3,"Year ",2025,"Quarter ",4)*'Table 1'!B34 -> 3840000 | S34: =GETPIVOTDATA("Spend ",'Spend breakdown'!$G$3,"Type ","Transport","Year ",2025,"Quarter ",4)/GETPIVOTDATA("Spend ",'Spend breakdown'!$G$3,"Year ",2025,"Quarter ",4)*'Table 1'!B34 -> 1820000 | T34: =GETPIVOTDATA("Spend ",'Spend breakdown'!$G$3,"Type ","Entertainment ","Year ",2025,"Quarter ",4)/GETPIVOTDATA("Spend ",'Spend breakdown'!$G$3,"Year ",2025,"Quarter ",4)*'Table 1'!B34 -> 1460000 | U34: =GETPIVOTDATA("Spend ",'Spend breakdown'!$G$3,"Type ","Other","Year ",2025,"Quarter ",4)/GETPIVOTDATA("Spend ",'Spend breakdown'!$G$3,"Year ",2025,"Quarter ",4)*'Table 1'!B34 -> 340000
A35: 46096 | B35: =((SUMIFS(#REF!,#REF!,"Include",#REF!,"Holiday",#REF!,$A35))) -> #REF! | C35: =((SUMIFS(#REF!,#REF!,"Include",#REF!,"Business",#REF!,$A35))) -> #REF! | D35: =((SUMIFS(#REF!,#REF!,"Include",#REF!,"VFR",#REF!,$A35))) -> #REF! | E35: =((SUMIFS(#REF!,#REF!,"Include",#REF!,"Other",#REF!,$A35))) -> #REF! | F35: =SUMIFS(#REF!,#REF!,"Include",#REF!,"UK",#REF!,$A35) -> #REF! | G35: =SUMIFS(#REF!,#REF!,"Include",#REF!,"France",#REF!,$A35) -> #REF! | H35: =SUMIFS(#REF!,#REF!,"Include",#REF!,"Other Channel Island",#REF!,$A35) -> #REF! | I35: {=SUM(SUMIFS(#REF!,#REF!,"Include",#REF!,{"Other country","Germany","Ireland"},#REF!,$A35))} -> #REF! | J35: =SUMIFS(#REF!,#REF!,"Include",#REF!,"Scheduled air",#REF!,$A35) -> #REF! | K35: =SUMIFS(#REF!,#REF!,"Include",#REF!,"Scheduled sea",#REF!,$A35) -> #REF! | L35: =SUMIFS(#REF!,#REF!,"Include",#REF!,"Private plane",#REF!,$A35) -> #REF! | M35: =SUMIFS(#REF!,#REF!,"Include",#REF!,"Visiting yacht",#REF!,$A35) -> #REF! | N35: =SUMIFS(#REF!,#REF!,"Include",#REF!,"Cruise",#REF!,$A35) -> #REF! | O35: =(GETPIVOTDATA("Spend ",'Spend breakdown'!$G$3,"Type ","Accommodation ","Year ",2026,"Quarter ",1)/GETPIVOTDATA("Spend ",'Spend breakdown'!$G$3,"Year ",2026,"Quarter ",1))*'Table 1'!B35 -> 5477413.9 | P35: =GETPIVOTDATA("Spend ",'Spend breakdown'!$G$3,"Type ","Packaged","Year ",2026,"Quarter ",1)/GETPIVOTDATA("Spend ",'Spend breakdown'!$G$3,"Year ",2026,"Quarter ",1)*'Table 1'!B35 -> 4188022.7 | Q35: =GETPIVOTDATA("Spend ",'Spend breakdown'!$G$3,"Type ","Eating and drinking ","Year ",2026,"Quarter ",1)/GETPIVOTDATA("Spend ",'Spend breakdown'!$G$3,"Year ",2026,"Quarter ",1)*'Table 1'!B35 -> 6696838.1 | R35: =GETPIVOTDATA("Spend ",'Spend breakdown'!$G$3,"Type ","Retail","Year ",2026,"Quarter ",1)/GETPIVOTDATA("Spend ",'Spend breakdown'!$G$3,"Year ",2026,"Quarter ",1)*'Table 1'!B35 -> 2138990.1 | S35: =GETPIVOTDATA("Spend ",'Spend breakdown'!$G$3,"Type ","Transport","Year ",2026,"Quarter ",1)/GETPIVOTDATA("Spend ",'Spend breakdown'!$G$3,"Year ",2026,"Quarter ",1)*'Table 1'!B35 -> 1649221.3 | T35: =GETPIVOTDATA("Spend ",'Spend breakdown'!$G$3,"Type ","Entertainment ","Year ",2026,"Quarter ",1)/GETPIVOTDATA("Spend ",'Spend breakdown'!$G$3,"Year ",2026,"Quarter ",1)*'Table 1'!B35 -> 809617.74 | U35: =GETPIVOTDATA("Spend ",'Spend breakdown'!$G$3,"Type ","Other","Year ",2026,"Quarter ",1)/GETPIVOTDATA("Spend ",'Spend breakdown'!$G$3,"Year ",2026,"Quarter ",1)*'Table 1'!B35 -> 219896.18
A36: 46188 | B36: =((SUMIFS(#REF!,#REF!,"Include",#REF!,"Holiday",#REF!,$A36))) -> #REF! | C36: =((SUMIFS(#REF!,#REF!,"Include",#REF!,"Business",#REF!,$A36))) -> #REF! | D36: =((SUMIFS(#REF!,#REF!,"Include",#REF!,"VFR",#REF!,$A36))) -> #REF! | E36: =((SUMIFS(#REF!,#REF!,"Include",#REF!,"Other",#REF!,$A36))) -> #REF! | F36: =SUMIFS(#REF!,#REF!,"Include",#REF!,"UK",#REF!,$A36) -> #REF! | G36: =SUMIFS(#REF!,#REF!,"Include",#REF!,"France",#REF!,$A36) -> #REF! | H36: =SUMIFS(#REF!,#REF!,"Include",#REF!,"Other Channel Island",#REF!,$A36) -> #REF! | I36: {=SUM(SUMIFS(#REF!,#REF!,"Include",#REF!,{"Other country","Germany","Ireland"},#REF!,$A36))} -> #REF! | J36: =SUMIFS(#REF!,#REF!,"Include",#REF!,"Scheduled air",#REF!,$A36) -> #REF! | K36: =SUMIFS(#REF!,#REF!,"Include",#REF!,"Scheduled sea",#REF!,$A36) -> #REF! | L36: =SUMIFS(#REF!,#REF!,"Include",#REF!,"Private plane",#REF!,$A36) -> #REF! | M36: =SUMIFS(#REF!,#REF!,"Include",#REF!,"Visiting yacht",#REF!,$A36) -> #REF! | N36: =SUMIFS(#REF!,#REF!,"Include",#REF!,"Cruise",#REF!,$A36) -> #REF! | O36: =(GETPIVOTDATA("Spend ",'Spend breakdown'!$G$3,"Type ","Accommodation ","Year ",2026,"Quarter ",2)/GETPIVOTDATA("Spend ",'Spend breakdown'!$G$3,"Year ",2026,"Quarter ",2))*'Table 1'!#REF! -> #REF! | P36: =GETPIVOTDATA("Spend ",'Spend breakdown'!$G$3,"Type ","Packaged","Year ",2026,"Quarter ",2)/GETPIVOTDATA("Spend ",'Spend breakdown'!$G$3,"Year ",2026,"Quarter ",2)*'Table 1'!#REF! -> #REF! | Q36: =GETPIVOTDATA("Spend ",'Spend breakdown'!$G$3,"Type ","Eating and drinking ","Year ",2026,"Quarter ",2)/GETPIVOTDATA("Spend ",'Spend breakdown'!$G$3,"Year ",2026,"Quarter ",2)*'Table 1'!#REF! -> #REF! | R36: =GETPIVOTDATA("Spend ",'Spend breakdown'!$G$3,"Type ","Retail","Year ",2026,"Quarter ",2)/GETPIVOTDATA("Spend ",'Spend breakdown'!$G$3,"Year ",2026,"Quarter ",2)*'Table 1'!#REF! -> #REF! | S36: =GETPIVOTDATA("Spend ",'Spend breakdown'!$G$3,"Type ","Transport","Year ",2026,"Quarter ",2)/GETPIVOTDATA("Spend ",'Spend breakdown'!$G$3,"Year ",2026,"Quarter ",2)*'Table 1'!#REF! -> #REF! | T36: =GETPIVOTDATA("Spend ",'Spend breakdown'!$G$3,"Type ","Entertainment ","Year ",2026,"Quarter ",2)/GETPIVOTDATA("Spend ",'Spend breakdown'!$G$3,"Year ",2026,"Quarter ",2)*'Table 1'!#REF! -> #REF! | U36: =GETPIVOTDATA("Spend ",'Spend breakdown'!$G$3,"Type ","Other","Year ",2026,"Quarter ",2)/GETPIVOTDATA("Spend ",'Spend breakdown'!$G$3,"Year ",2026,"Quarter ",2)*'Table 1'!#REF! -> #REF!

Sheet Table 3
A1: Table 3
A2: Estimated average overnight spend per visit by key characteristics (£) (overnight visitors only)
A3: By key characteristics
B5: Purpose of visit | E5: Country of residence
A6: Quarter end date | B6: Leisure | C6: Visiting Friends and Relatives | D6: Business and Other purposes | E6: United Kingdom | F6: France | G6: Other Channel Islands | H6: Other
A7: 43539
A8: 43631
A9: 43723
A10: 43814
A11: 43905
A12: 43997
A13: 44089
A14: 44180
A15: 44270
A16: 44362
A17: 44454
A18: 44545
... A26: 45275
A27: 45366 | B27: 500 | C27: 360 | D27: 620 | E27: 490 | F27: - | G27: - | H27: -
A28: 45458 | B28: 580 | C28: 430 | D28: 400 | E28: 580 | F28: 440 | G28: 290 | H28: 710
A29: 45550 | B29: 690 | C29: 410 | D29: 530 | E29: 700 | F29: 360 | G29: - | H29: 640
A30: 45641 | B30: 470 | C30: 280 | D30: - | E30: 440 | F30: - | G30: - | H30: -
A31: 45731 | B31: 450 | C31: 330 | D31: 310 | E31: 420 | F31: - | G31: - | H31: -
A32: 45823 | B32: 670 | C32: 360 | D32: 530 | E32: 670 | F32: 260 | G32: - | H32: 730
A33: 45915 | B33: 780 | C33: 350 | D33: 550 | E33: 780 | F33: 200 | G33: - | H33: 590
A34: 46006 | B34: 570 | C34: 270 | D34: 430 | E34: 500 | F34: 350 | G34: - | H34: 620
A35: 46096 | B35: 470 | C35: 270 | D35: 320 | E35: 400 | F35: - | G35: - | H35: 540

Sheet Table 4
A1: Table 4
A2: Estimated average visitor spend per night by key characteristics (£) (overnight visitors only)
A3: By key characteristics
B5: Purpose of visit | E5: Country of residence
A6: Quarter end date | B6: Leisure | C6: Visiting Friends and Relatives | D6: Business and Other purposes | E6: United Kingdom | F6: France | G6: Other Channel Islands | H6: Other
A7: 43539
A8: 43631
A9: 43723
A10: 43814
A11: 43905
A12: 43997
A13: 44089
A14: 44180
A15: 44270
A16: 44362
A17: 44454
A18: 44545
... A26: 45275
A27: 45366 | B27: 140 | C27: 70 | D27: 160 | E27: 120 | F27: - | G27: - | H27: -
A28: 45458 | B28: 140 | C28: 80 | D28: 130 | E28: 130 | F28: 130 | G28: 140 | H28: 140
A29: 45550 | B29: 150 | C29: 80 | D29: 140 | E29: 140 | F29: 130 | G29: - | H29: -
A30: 45641 | B30: 140 | C30: 60 | D30: - | E30: 110 | F30: - | G30: - | H30: -
A31: 45731 | B31: 130 | C31: 60 | D31: 120 | E31: 110 | F31: - | G31: - | H31: 110
A32: 45823 | B32: 160 | C32: 80 | D32: 150 | E32: 150 | F32: 130 | G32: - | H32: 160
A33: 45915 | B33: 160 | C33: 60 | D33: 160 | E33: 140 | F33: 100 | G33: - | H33: 120
A34: 46006 | B34: 160 | C34: 60 | D34: 160 | E34: 130 | F34: 110 | G34: - | H34: 130
A35: 46096 | B35: 150 | C35: 50 | D35: 140 | E35: 110 | F35: - | G35: - | H35: 110

Sheet Table 5
A1: Table 5
A2: Estimated visits by key characteristics
A3: Based on sample only, weighting not applied
B5: Age (years) | I5: Main accommodation (staying visitors) | N5: First time visit to Jersey | P5: Customer segment
A6: Period | B6: 16-24 | C6: 25-34 | D6: 35-44 | E6: 45-54 | F6: 55-64 | G6: 65-74 | H6: 75+ | I6: Hotel | J6: With friends and relatives | K6: Airbnb | L6: Self-Catering (excl. Airbnb) | M6: Other | N6: Yes | O6: No | P6: Easy explorers | Q6: Relaxed rechargers | R6: Authentic adventurers | S6: Culture chasers | T6: Watch life go by | U6: Moment makers | V6: Me toos
A7: 43539
A8: 43631
A9: 43723
A10: 43814
A11: 43905
A12: 43997
A13: 44089
A14: 44180
A15: 44270
A16: 44362
A17: 44454
A18: 44545
... A26: 45275
A27: 45366 | B27: 0.14323259 | C27: 0.095926413 | D27: 0.14454665 | E27: 0.15505913 | F27: 0.22010512 | G27: 0.18725361 | H27: 0.053876478 | I27: 0.72193437 | J27: 0.20120898 | K27: 0.025043178 | L27: 0.026770294 | M27: 0.025043178 | N27: 0.38760712 | O27: 0.61239288 | P27: 0.2729097 | Q27: 0.16588629 | R27: 0.19130435 | S27: 0.10367893 | T27: 0.089632107 | U27: 0.13645485 | V27: 0.040133779
A28: 45458 | B28: 0.06842661 | C28: 0.097360084 | D28: 0.13727561 | E28: 0.17233369 | F28: 0.26821542 | G28: 0.18606125 | H28: 0.07032735 | I28: 0.69830628 | J28: 0.15137615 | K28: 0.035285815 | L28: 0.064573042 | M28: 0.050458716 | N28: 0.48156731 | O28: 0.51843269 | P28: 0.25413661 | Q28: 0.2023759 | R28: 0.16737378 | S28: 0.18540518 | T28: 0.074671192 | U28: 0.067882902 | V28: 0.048154434
A29: 45550 | B29: 0.046558704 | C29: 0.088259109 | D29: 0.14210526 | E29: 0.20121457 | F29: 0.25647773 | G29: 0.17975709 | H29: 0.08562753 | I29: 0.65971996 | J29: 0.16476718 | K29: 0.059264083 | L29: 0.062194725 | M29: 0.054054054 | N29: 0.43075993 | O29: 0.56924007 | P29: 0.24156161 | Q29: 0.27226515 | R29: 0.17222448 | S29: 0.15148434 | T29: 0.081333876 | U29: 0.038430256 | V29: 0.042700285
A30: 45641 | B30: 0.035632184 | C30: 0.07183908 | D30: 0.088505747 | E30: 0.22873563 | F30: 0.27528736 | G30: 0.22298851 | H30: 0.077011494 | I30: 0.73193788 | J30: 0.16542876 | K30: 0.03713707 | L30: 0.037812289 | M30: 0.027683997 | N30: 0.34290638 | O30: 0.65709362 | P30: 0.24541284 | Q30: 0.27924312 | R30: 0.14162844 | S30: 0.14277523 | T30: 0.10321101 | U30: 0.057912844 | V30: 0.029816514
A31: 45731 | B31: 0.17055145 | C31: 0.090392268 | D31: 0.13871518 | E31: 0.14326322 | F31: 0.23365549 | G31: 0.17225696 | H31: 0.051165435 | I31: 0.75917065 | J31: 0.17145136 | K31: 0.018341308 | L31: 0.031100478 | M31: 0.019936204 | N31: 0.44393329 | O31: 0.55606671 | P31: 0.37931034 | Q31: 0.23333333 | R31: 0.15 | S31: 0.096551724 | T31: 0.066091954 | U31: 0.049425287 | V31: 0.025287356
A32: 45823 | B32: 0.063313096 | C32: 0.060494363 | D32: 0.099306158 | E32: 0.25281873 | F32: 0.20815265 | G32: 0.24414571 | H32: 0.071769297 | I32: 0.70682261 | J32: 0.12280702 | K32: 0.049902534 | L32: 0.081871345 | M32: 0.038596491 | N32: 0.47648217 | O32: 0.52351783 | P32: 0.24658741 | Q32: 0.30537208 | R32: 0.12945839 | S32: 0.17459269 | T32: 0.041391458 | U32: 0.04777631 | V32: 0.054821664
A33: 45915 | B33: 0.033950093 | C33: 0.055678153 | D33: 0.13800713 | E33: 0.20981158 | F33: 0.26854524 | G33: 0.21049058 | H33: 0.08351723 | I33: 0.57306864 | J33: 0.18392729 | K33: 0.064099498 | L33: 0.1040421 | M33: 0.074862473 | N33: 0.38218293 | O33: 0.61781707 | P33: 0.28185262 | Q33: 0.2660124 | R33: 0.13756887 | S33: 0.12396694 | T33: 0.10330579 | U33: 0.033402204 | V33: 0.053891185
A34: 46006 | B34: 0.039298991 | C34: 0.088688263 | D34: 0.09559214 | E34: 0.16675518 | F34: 0.25225704 | G34: 0.27668614 | H34: 0.080722252 | I34: 0.69601542 | J34: 0.17673522 | K34: 0.048200514 | L34: 0.054627249 | M34: 0.024421594 | N34: 0.41298563 | O34: 0.58701437 | P34: 0.23907178 | Q34: 0.28440367 | R34: 0.14247167 | S34: 0.14786832 | T34: 0.10847275 | U34: 0.03993524 | V34: 0.037776579
A35: 46096 | B35: 0.20100503 | C35: 0.11222781 | D35: 0.13009492 | E35: 0.1451703 | F35: 0.19262982 | G35: 0.17420436 | H35: 0.044667783 | I35: 0.67624021 | J35: 0.24630113 | K35: 0.025239339 | L35: 0.035683203 | M35: 0.016536118 | N35: 0.38847118 | O35: 0.61152882 | P35: 0.30656304 | Q35: 0.18307427 | R35: 0.14766839 | S35: 0.16580311 | T35: 0.082037997 | U35: 0.074265976 | V35: 0.040587219

Sheet Table 6
A1: Table 6
A2: Estimated proportion of visitor who participate in an activity
A3: By activity
A4: Based on sample only, weighting not applied
B5: Activity
A6: Quarter end date | B6: Visited a café, restaurant or bar | C6: Shopping for non-essential items | D6: A walk along a coastal or inland footpath | E6: Paid visitor attraction | F6: Used the public bus service | G6: A free visitor attraction | H6: Sea-based activities | I6: A guided bus or coach tour | J6: Hired a car (including evie) | K6: Attended a cultural event | L6: Cycle tour/ride | M6: Watched a sporting event | N6: A guided walk
A7: 43539
A8: 43631
A9: 43723
A10: 43814
A11: 43905
A12: 43997
A13: 44089
A14: 44180
A15: 44270
A16: 44362
A17: 44454
A18: 44545
... A26: 45275
A27: 45366 | B27: 0.86677116 | C27: 0.61206897 | D27: 0.55250784 | E27: 0.35893417 | F27: 0.47335423 | G27: 0.37304075 | H27: 0.087774295 | I27: 0.028213166 | J27: 0.14498433 | K27: 0.05015674 | L27: 0.025862069 | M27: 0.022727273 | N27: 0.015673981
A28: 45458 | B28: 0.885897 | C28: 0.61696399 | D28: 0.63042747 | E28: 0.55873443 | F28: 0.47425109 | G28: 0.48030966 | H28: 0.15752272 | I28: 0.15415685 | J28: 0.1346348 | K28: 0.077751599 | L28: 0.073712555 | M28: 0.054190508 | N28: 0.028609896
A29: 45550 | B29: 0.91851852 | C29: 0.69153439 | D29: 0.57936508 | E29: 0.56296296 | F29: 0.53095238 | G29: 0.50978836 | H29: 0.29021164 | I29: 0.14550265 | J29: 0.13862434 | K29: 0.097089947 | L29: 0.073809524 | M29: 0.047089947 | N29: 0.017989418
A30: 45641 | B30: 0.88369071 | C30: 0.73619233 | D30: 0.67901235 | E30: 0.4905783 | F30: 0.52241715 | G30: 0.46588694 | H30: 0.10981157 | I30: 0.086419753 | J30: 0.18973359 | K30: 0.10136452 | L30: 0.032488629 | M30: 0.049382716 | N30: 0.019493177
A31: 45731 | B31: 0.88897576 | C31: 0.66223612 | D31: 0.71696638 | E31: 0.36043784 | F31: 0.5269742 | G31: 0.40891321 | H31: 0.039874902 | I31: 0.017200938 | J31: 0.20797498 | K31: 0.032056294 | L31: 0.020328382 | M31: 0.03752932 | N31: 0.017200938
A32: 45823 | B32: 0.86913124 | C32: 0.64177449 | D32: 0.70979667 | E32: 0.60665434 | F32: 0.56524954 | G32: 0.57966728 | H32: 0.1219963 | I32: 0.16820702 | J32: 0.15268022 | K32: 0.10277264 | L32: 0.061367837 | M32: 0.039186691 | N32: 0.026617375
A33: 45915 | B33: 0.90999548 | C33: 0.69810041 | D33: 0.7281773 | E33: 0.62686567 | F33: 0.48349163 | G33: 0.58457711 | H33: 0.29579376 | I33: 0.13568521 | J33: 0.1049299 | K33: 0.10809588 | L33: 0.096788783 | M33: 0.053143374 | N33: 0.030529172
A34: 46006 | B34: 0.92962252 | C34: 0.71849008 | D34: 0.71081254 | E34: 0.51055662 | F34: 0.51503519 | G34: 0.52527191 | H34: 0.076135637 | I34: 0.091490723 | J34: 0.14011516 | K34: 0.1074856 | L34: 0.053103007 | M34: 0.04734485 | N34: 0.0089571337
A35: 46096 | B35: 0.85502471 | C35: 0.65156507 | D35: 0.73146623 | E35: 0.32784185 | F35: 0.46787479 | G35: 0.34925865 | H35: 0.060955519 | I35: 0.023887974 | J35: 0.1383855 | K35: 0.030477759 | L35: 0.042009885 | M35: 0.036243822 | N35: 0.0098846787

Sheet Table 7
A1: Table 7
A2: Estimated average ratings
A3: By attribute
A4: Based on sample only, weighting not applied
B5: Attribute
A6: Quarter end date | B6: Safety & security | C6: Beaches | D6: Countryside | E6: Natural beauty | F6: Cleanliness | G6: Getting to and from the island | H6: Getting around the island | I6: Accessibility / Inclusion | J6: Jersey in general | K6: Accommodation | L6: Variety of accomodation | M6: Quality of accomodation | N6: Attractions | O6: Restaurants, cafes & bars | P6: Shops/retail | Q6: Value for money
A7: 43539
A8: 43631
A9: 43723
A10: 43814
A11: 43905
A12: 43997
A13: 44089
A14: 44180
A15: 44270
A16: 44362
A17: 44454
A18: 44545
... A26: 45275
A27: 45366 | B27: 4.6280193 | C27: 4.8089286 | D27: 4.6943396 | F27: 4.6435331 | J27: 4.626935 | K27: 4.6280193 | N27: 4.2438424 | O27: 4.599681 | P27: 4.1281553 | Q27: 3.6493711
A28: 45458 | B28: 4.6395939 | C28: 4.8226667 | D28: 4.7388889 | F28: 4.7525962 | J28: 4.7276051 | K28: 4.6395939 | N28: 4.4325178 | O28: 4.5453408 | P28: 4.1637866 | Q28: 3.7349472
A29: 45550 | B29: 4.608532 | C29: 4.825167 | D29: 4.7274854 | F29: 4.7673448 | J29: 4.7429761 | K29: 4.608532 | N29: 4.4515715 | O29: 4.5706695 | P29: 4.1798517 | Q29: 3.743941
A30: 45641 | B30: 4.7070866 | C30: 4.7557803 | D30: 4.6562033 | F30: 4.6838143 | J30: 4.6840149 | K30: 4.7070866 | N30: 4.3745645 | O30: 4.5752896 | P30: 4.1666667 | Q30: 3.6140351
A31: 45731 | B31: 4.679646 | C31: 4.7699837 | D31: 4.6906854 | F31: 4.6656848 | J31: 4.7103348 | K31: 4.679646 | N31: 4.3546099 | O31: 4.5827124 | P31: 4.1162362 | Q31: 3.7441176
A32: 45823 | B32: 4.6362922 | C32: 4.8560886 | D32: 4.810566 | F32: 4.7907628 | J32: 4.7514045 | K32: 4.6362922 | N32: 4.3890785 | O32: 4.5298347 | P32: 4.1221178 | Q32: 3.6722807
A33: 45915 | B33: 4.5715812 | C33: 4.8513324 | D33: 4.7412048 | F33: 4.7781753 | J33: 4.7022422 | K33: 4.5715812 | N33: 4.3664163 | O33: 4.5226223 | P33: 4.1167377 | Q33: 3.521916
A34: 46006 | B34: 4.6932515 | C34: 4.8360882 | D34: 4.7366197 | F34: 4.753978 | J34: 4.7064555 | K34: 4.6932515 | N34: 4.3901582 | O34: 4.6085859 | P34: 4.1988218 | Q34: 3.5822002
A35: 46096 | E35: 4.829222 | G35: 4.1557223 | H35: 4.5048733 | I35: 4.2608696 | L35: 4.4454976 | M35: 4.5817308 | N35: 4.2712551 | O35: 4.5603329 | P35: 4.152027 | Q35: 3.6057692
A37: Average scores are based upon a rating scale from 5 for “Very good” down to 1 for “Very poor”.
A38: *From Jan 2026 onwards, visitors were asked to rate a different set of island attributes.

Sheet Table 8
A1: Table 8
A2: Estiamted likelihood of recommending Jersey and Net Promotor Score (Leisure visits only)
A3: By Score
B5: Likelihood of recommending Jersey (out of 10) | E5: Net promotor score
A6: Quarter end date | B6: Detractor (0-6) | C6: Passive (7-8) | D6: Promotor (9-10) | E6: NPS
A7: 43539
A8: 43631
A9: 43723
A10: 43814
A11: 43905
A12: 43997
A13: 44089
A14: 44180
A15: 44270
A16: 44362
A17: 44454
A18: 44545
... A26: 45275
A27: 45366 | B27: 0.050739958 | C27: 0.18287526 | D27: 0.76638478 | E27: 71.564482
A28: 45458 | B28: 0.035072207 | C28: 0.19363395 | D28: 0.77129384 | E28: 73.622163
A29: 45550 | B29: 0.031758327 | C29: 0.17041053 | D29: 0.79783114 | E29: 76.607281
A30: 45641 | B30: 0.036202735 | C30: 0.19227675 | D30: 0.77152051 | E30: 73.531778
A31: 45731 | B31: 0.030097087 | C31: 0.16893204 | D31: 0.80097087 | E31: 77.087379
A32: 45823 | B32: 0.064984445 | C32: 0.1997926 | D32: 0.73522295 | E32: 67.023851
A33: 45915 | B33: 0.044474394 | C33: 0.20305481 | D33: 0.7524708 | E33: 70.799641
A34: 46006 | B34: 0.023006135 | C34: 0.19861963 | D34: 0.77837423 | E34: 75.53681
A35: 46096 | B35: 0.029274005 | C35: 0.20960187 | D35: 0.76112412 | E35: 73.185012
A37: Respondents are asked to score, on a scale of 0 to 10, how likely they are to recommend visiting Jersey to a friend or relative

Sheet Segment lookup
A1: I like an indulgent break with friends in a fun destination with nightlife, gourmet food, good shopping opportunities, beach and coastal activities and a wow factor | B1: Moment makers
A2: I like an indulgent break with friends in a fun destination with nightlife, gourmet food, good shopping opportunities, beach and coastal activities and a wow factor. | B2: Moment makers
A3: I like to broaden my mind, learning about history and heritage and appreciate local culture, arts and craft, as well as enjoying quality dining experiences | B3: Culture chasers
A4: I like to broaden my mind, learning about history and heritage and appreciate local culture, arts and craft, as well as enjoying quality dining experiences. | B4: Culture chasers
A5: I like to get off the beaten track in an active way, discovering new and authentic experiences, meeting the locals, and learning about their culture and heritage | B5: Authentic adventurers
A6: I like to relax and enjoy gentle activities like coastal walks in the great outdoors, exploring a destination’s history and heritage, and local nature and wildlife | B6: Easy explorers
A7: I like to relax and enjoy gentle activities like coastal walks in the great outdoors, exploring a destination’s history and heritage, and local nature and wildlife. | B7: Easy explorers
A8: I like to relax and recharge in a safe and peaceful environment, spending quality time with my travel companion(s) and exploring the sites at my own pace | B8: Relaxed rechargers
A9: I like to relax and recharge in a safe and peaceful environment, spending quality time with my travel companion(s) and exploring the sites at my own pace. | B9: Relaxed rechargers
A10: I like to slow down and enjoy a relaxing holiday or break offering familiar experiences and often revisit the same destination | B10: Watch life go by
A11: I like to slow down and enjoy a relaxing holiday or break offering familiar experiences and often revisit the same destination. | B11: Watch life go by
A12: I like to visit popular destinations, taking part in organised activities and entertainment, visiting recommended sites, and enjoying the company of fellow visitors | B12: Me toos
A13: I like to visit popular destinations, taking part in organised activities and entertainment, visiting recommended sites, and enjoying the company of fellow visitors. | B13: Me toos

Sheet Spend breakdown
A1: Type | B1: Year | C1: Quarter | D1: Spend
A2: Packaged | B2: 2022 | C2: 2 | D2: 14.206127
A3: Packaged | B3: 2022 | C3: 3 | D3: 18.269469 | G3: Sum of Spend | H3: Column Labels
A4: Packaged | B4: 2022 | C4: 4 | D4: 6.4861707 | G4: Row Labels | H4: 1 | I4: 2 | J4: 3 | K4: 4 | L4: (blank) | M4: Grand Total
A5: Packaged | B5: 2023 | C5: 1 | D5: 2.78 | G5: 2022 | I5: 75.679269 | J5: 116.19684 | K5: 35.329922 | M5: 227.20603
A6: Packaged | B6: 2023 | C6: 2 | D6: 12.201389 | G6: Accommodation | I6: 26.959183 | J6: 51.003667 | K6: 11.568631 | M6: 89.531481
A7: Packaged | B7: 2023 | C7: 3 | D7: 30.8 | G7: Eating and drinking | I7: 17.47063 | J7: 25.234536 | K7: 9.3051957 | M7: 52.010362
A8: Packaged | B8: 2023 | C8: 4 | D8: 5.85 | G8: Entertainment | I8: 3.5195724 | J8: 4.9647772 | K8: 1.0708283 | M8: 9.5551779
A9: Packaged | B9: 2024 | C9: 1 | D9: 3.5 | G9: Other | I9: 1.3033742 | J9: 0.69657005 | K9: 0.51147837 | M9: 2.5114226
A10: Packaged | B10: 2024 | C10: 2 | D10: 15.97 | G10: Packaged | I10: 14.206127 | M10: 14.206127
A11: Packaged | B11: 2024 | C11: 3 | D11: 30.48 | G11: Packaged | J11: 18.269469 | K11: 6.4861707 | M11: 24.755639
A12: Packaged | B12: 2024 | C12: 4 | D12: 8.52 | G12: Retail | I12: 7.1743565 | J12: 10.269007 | K12: 4.5190364 | M12: 21.962399
A13: Packaged | B13: 2025 | C13: 1 | D13: 4.44 | G13: Transport | I13: 5.0460257 | J13: 5.7588098 | K13: 1.8685812 | M13: 12.673417
A14: Packaged | B14: 2025 | C14: 2 | D14: 25.086 | G14: 2023 | H14: 24.1 | I14: 78.22927 | J14: 144.97 | K14: 39.02 | M14: 286.31927
A15: Packaged | B15: 2025 | C15: 3 | D15: 29.85 | G15: Accommodation | H15: 7.69 | I15: 30.725989 | J15: 60.37 | K15: 14.02 | M15: 112.80599
A16: Packaged | B16: 2025 | C16: 4 | D16: 10.84 | G16: Eating and drinking | H16: 7.4 | I16: 19.553429 | J16: 27.5 | K16: 9.93 | M16: 64.383429
A17: Packaged | B17: 2026 | C17: 1 | D17: 4.19 | G17: Entertainment | H17: 0.52 | I17: 3.112516 | J17: 6.06 | K17: 1.56 | M17: 11.252516
A18: Packaged | B18: 2026 | C18: 2 | D18: 17.643869 | G18: Other | H18: 0.19 | I18: 0.803954 | J18: 1.23 | K18: 0.09 | M18: 2.313954
A19: Accommodation | B19: 2022 | C19: 2 | D19: 26.959183 | G19: Packaged | J19: 30.8 | K19: 5.85 | M19: 36.65
A20: Accommodation | B20: 2022 | C20: 3 | D20: 51.003667 | G20: Packaged | H20: 2.78 | I20: 12.201389 | M20: 14.981389
A21: Accommodation | B21: 2022 | C21: 4 | D21: 11.568631 | G21: Retail | H21: 4.02 | I21: 7.191796 | J21: 10.92 | K21: 5.25 | M21: 27.381796
A22: Accommodation | B22: 2023 | C22: 1 | D22: 7.69 | G22: Transport | H22: 1.5 | I22: 4.640197 | J22: 8.09 | K22: 2.32 | M22: 16.550197
A23: Accommodation | B23: 2023 | C23: 2 | D23: 30.725989 | G23: 2024 | H23: 27.09 | I23: 89.58 | J23: 135.34 | K23: 38.29 | M23: 290.3
A24: Accommodation | B24: 2023 | C24: 3 | D24: 60.37 | G24: Accommodation | H24: 8.79 | I24: 33.32 | J24: 53.2 | K24: 11.88 | M24: 107.19
A25: Accommodation | B25: 2023 | C25: 4 | D25: 14.02 | G25: Eating and drinking | H25: 7.46 | I25: 20.36 | J25: 26.01 | K25: 9.32 | M25: 63.15
A26: Accommodation | B26: 2024 | C26: 1 | D26: 8.79 | G26: Entertainment | H26: 0.85 | I26: 4.52 | J26: 5.77 | K26: 1.64 | M26: 12.78
A27: Accommodation | B27: 2024 | C27: 2 | D27: 33.32 | G27: Other | H27: 0.42 | I27: 1.48 | J27: 2.09 | K27: 0.19 | M27: 4.18
A28: Accommodation | B28: 2024 | C28: 3 | D28: 53.2 | G28: Packaged | H28: 3.5 | I28: 15.97 | J28: 30.48 | K28: 8.52 | M28: 58.47
A29: Accommodation | B29: 2024 | C29: 4 | D29: 11.88 | G29: Retail | H29: 4.47 | I29: 8.64 | J29: 10.91 | K29: 4.15 | M29: 28.17
A30: Accommodation | B30: 2025 | C30: 1 | D30: 7.03 | G30: Transport | H30: 1.6 | I30: 5.29 | J30: 6.88 | K30: 2.59 | M30: 16.36
A31: Accommodation | B31: 2025 | C31: 2 | D31: 27.70517 | G31: 2025 | H31: 23.13 | I31: 82.9534 | J31: 123.00092 | K31: 36.29 | M31: 265.37432
A32: Accommodation | B32: 2025 | C32: 3 | D32: 49.068773 | G32: Accommodation | H32: 7.03 | I32: 27.70517 | J32: 49.068773 | K32: 9.72 | M32: 93.523943
A33: Accommodation | B33: 2025 | C33: 4 | D33: 9.72 | G33: Eating and drinking | H33: 6.49 | I33: 16.47143 | J33: 23.570373 | K33: 8.27 | M33: 54.801803
A34: Accommodation | B34: 2026 | C34: 1 | D34: 5.48 | G34: Entertainment | H34: 0.65 | I34: 3.26597 | J34: 4.3506771 | K34: 1.46 | M34: 9.7266471
A35: Accommodation | B35: 2026 | C35: 2 | D35: 22.05819 | G35: Other | H35: 0.31 | I35: 0.81902 | J35: 2.160197 | K35: 0.34 | M35: 3.629217
A36: Transport | B36: 2022 | C36: 2 | D36: 5.0460257 | G36: Packaged | H36: 4.44 | I36: 25.086 | J36: 29.85 | K36: 10.84 | M36: 70.216
A37: Transport | B37: 2022 | C37: 3 | D37: 5.7588098 | G37: Retail | H37: 2.62 | I37: 5.30847 | J37: 8.2672959 | K37: 3.84 | M37: 20.035766
A38: Transport | B38: 2022 | C38: 4 | D38: 1.8685812 | G38: Transport | H38: 1.59 | I38: 4.29734 | J38: 5.7336069 | K38: 1.82 | M38: 13.440947
A39: Transport | B39: 2023 | C39: 1 | D39: 1.5 | G39: (blank)
A40: Transport | B40: 2023 | C40: 2 | D40: 4.640197 | G40: (blank)
...
